BEGIN:VCALENDAR
VERSION:2.0
PRODID:spatie/icalendar-generator
DESCRIPTION:Events from DanversDems
X-WR-CALDESC:Events from DanversDems
REFRESH-INTERVAL;VALUE=DURATION:PT1440M
X-PUBLISHED-TTL:PT1440M
BEGIN:VTIMEZONE
TZID:Etc/GMT+0
BEGIN:STANDARD
DTSTART:20240709T120000Z
TZOFFSETFROM:+0000
TZOFFSETTO:+0000
END:STANDARD
END:VTIMEZONE
BEGIN:VTIMEZONE
TZID:UTC
BEGIN:STANDARD
DTSTART:20250728T051601Z
TZOFFSETFROM:+0000
TZOFFSETTO:+0000
END:STANDARD
END:VTIMEZONE
BEGIN:VEVENT
UID:54-49
DTSTAMP:20260424T051601Z
SUMMARY:Rally for Democracy - Ipswich (Central Green) - April 5
LOCATION:
ORGANIZER;CN=Lou:MAILTO:collector_of_music@yahoo.com
DTSTART;TZID=Etc/GMT+0:20250405T120000
DTEND;TZID=Etc/GMT+0:20250405T130000
X-ALT-DESC;FMTTYPE=TEXT/HTML:Undeterred by the “rival” Hands Off! event
  in Boston\, the Ipswich Dems are rallying again in their own town! If you
  can’t make the Boston event\, join the Ipswich crew and their many neig
 hbor town Democrats and Unenrolleds from noon to 1 p.m. Make a (preferably
  legible) sign and just show up! Bonus points for&amp;hellip\;
CATEGORIES:other
URL;VALUE=URI:https://danversdemocrats.org/mc-events/rally-for-democracy-ip
 swich-central-green-april-5/
METHOD:PUBLISH
END:VEVENT
END:VCALENDAR