BEGIN:VCALENDAR
VERSION:2.0
PRODID:spatie/icalendar-generator
DESCRIPTION:Events from DanversDems
X-WR-CALDESC:Events from DanversDems
REFRESH-INTERVAL;VALUE=DURATION:PT1440M
X-PUBLISHED-TTL:PT1440M
BEGIN:VTIMEZONE
TZID:Etc/GMT+0
BEGIN:STANDARD
DTSTART:20240517T160000Z
TZOFFSETFROM:+0000
TZOFFSETTO:+0000
END:STANDARD
END:VTIMEZONE
BEGIN:VTIMEZONE
TZID:UTC
BEGIN:STANDARD
DTSTART:20250728T043934Z
TZOFFSETFROM:+0000
TZOFFSETTO:+0000
END:STANDARD
END:VTIMEZONE
BEGIN:VEVENT
UID:20-16
DTSTAMP:20260424T043934Z
SUMMARY:Rally for Immigrant Rights
LOCATION:District Court 580 Essex Street  Lynn MA
ORGANIZER;CN=Lou:MAILTO:collector_of_music@yahoo.com
DTSTART;TZID=Etc/GMT+0:20250211T160000
DTEND;TZID=Etc/GMT+0:20250211T173000
X-ALT-DESC;FMTTYPE=TEXT/HTML:JOIN THE NEW LYNN COALITION AND SPONSORED ORGA
 NISATIONS RALLY TO STAND UP FOR IMMIGRANT RIGHTS &amp;nbsp\; This rally\, orga
 nized by the New Lynn Coalition and several community organizations\, is a
  call to defend democracy\, protect immigrant rights\, and demand justice 
 and safety for all. Community leaders\, clergy\, and advocates from divers
 e backgrounds will speak at&amp;hellip\;
CATEGORIES:other
URL;VALUE=URI:https://danversdemocrats.org/mc-events/rally-for-immigrant-ri
 ghts/
METHOD:PUBLISH
END:VEVENT
END:VCALENDAR