BEGIN:VCALENDAR
VERSION:2.0
PRODID:spatie/icalendar-generator
DESCRIPTION:Events from DanversDems
X-WR-CALDESC:Events from DanversDems
REFRESH-INTERVAL;VALUE=DURATION:PT1440M
X-PUBLISHED-TTL:PT1440M
BEGIN:VTIMEZONE
TZID:Etc/GMT+0
BEGIN:STANDARD
DTSTART:20241104T083000Z
TZOFFSETFROM:+0000
TZOFFSETTO:+0000
END:STANDARD
END:VTIMEZONE
BEGIN:VTIMEZONE
TZID:UTC
BEGIN:STANDARD
DTSTART:20250727T202049Z
TZOFFSETFROM:+0000
TZOFFSETTO:+0000
END:STANDARD
END:VTIMEZONE
BEGIN:VEVENT
UID:112-96
DTSTAMP:20260423T202049Z
SUMMARY:Rep.Sally Kerans Office Hours
LOCATION:Danvers Senior Center
ORGANIZER;CN=Lou:MAILTO:collector_of_music@yahoo.com
DTSTART;TZID=Etc/GMT+0:20250801T083000
DTEND;TZID=Etc/GMT+0:20250801T223000
X-ALT-DESC;FMTTYPE=TEXT/HTML:State Rep. Sally Kerans will hold office hours
  across the district on Aug. 1. She will be in Danvers from 8:30 a.m. to 1
 0 a.m. at the Danvers Senior Center.
CATEGORIES:other
URL;VALUE=URI:https://danversdemocrats.org/mc-events/rep-sally-kerans-offic
 e-hours/
METHOD:PUBLISH
END:VEVENT
END:VCALENDAR