BEGIN:VCALENDAR
VERSION:2.0
PRODID:spatie/icalendar-generator
DESCRIPTION:Events from DanversDems
X-WR-CALDESC:Events from DanversDems
REFRESH-INTERVAL;VALUE=DURATION:PT1440M
X-PUBLISHED-TTL:PT1440M
BEGIN:VTIMEZONE
TZID:Etc/GMT+0
BEGIN:STANDARD
DTSTART:20250208T130000Z
TZOFFSETFROM:+0000
TZOFFSETTO:+0000
END:STANDARD
END:VTIMEZONE
BEGIN:VTIMEZONE
TZID:UTC
BEGIN:STANDARD
DTSTART:20250728T044426Z
TZOFFSETFROM:+0000
TZOFFSETTO:+0000
END:STANDARD
END:VTIMEZONE
BEGIN:VEVENT
UID:136-105
DTSTAMP:20260424T044426Z
SUMMARY:Resilient Danvers Community Summit
LOCATION:
ORGANIZER;CN=Lou:MAILTO:collector_of_music@yahoo.com
DTSTART;TZID=Etc/GMT+0:20251105T130000
DTEND;TZID=Etc/GMT+0:20251105T143000
X-ALT-DESC;FMTTYPE=TEXT/HTML:Join the town staff to learn about climate cha
 nge and how Danvers is taking action.  we want to hear your ides for savi
 ng energy\, protecting our green spaces and more. November 5. 1:00 - 2:30 
 The Larkin 362 Maple St. Danvers Visit Resilient.DanversMA.gov to learn mo
 re. &amp;nbsp\; to register
CATEGORIES:Town of Danvers
URL;VALUE=URI:https://danversdemocrats.org/mc-events/resilient-danvers-comm
 unity-summit/
METHOD:PUBLISH
END:VEVENT
END:VCALENDAR