BEGIN:VCALENDAR
VERSION:2.0
PRODID:spatie/icalendar-generator
DESCRIPTION:Events from DanversDems
X-WR-CALDESC:Events from DanversDems
REFRESH-INTERVAL;VALUE=DURATION:PT1440M
X-PUBLISHED-TTL:PT1440M
BEGIN:VTIMEZONE
TZID:Etc/GMT+0
BEGIN:STANDARD
DTSTART:20240720T181500Z
TZOFFSETFROM:+0000
TZOFFSETTO:+0000
END:STANDARD
END:VTIMEZONE
BEGIN:VTIMEZONE
TZID:UTC
BEGIN:STANDARD
DTSTART:20250727T233856Z
TZOFFSETFROM:+0000
TZOFFSETTO:+0000
END:STANDARD
END:VTIMEZONE
BEGIN:VEVENT
UID:55-50
DTSTAMP:20260423T233856Z
SUMMARY:Rise of Christian Nationalism
LOCATION:Hamilton Wenham Library 14 Union Street  Hamilton MA
ORGANIZER;CN=Lou:MAILTO:collector_of_music@yahoo.com
DTSTART;TZID=Etc/GMT+0:20250416T181500
DTEND;TZID=Etc/GMT+0:20250416T200300
X-ALT-DESC;FMTTYPE=TEXT/HTML:Hamilton and Wenham Democratic Town Committees
  are hosting a speaker on Christian Nationalism .
CATEGORIES:other
URL;VALUE=URI:https://danversdemocrats.org/mc-events/rise-of-christian-nati
 onalism/
METHOD:PUBLISH
END:VEVENT
END:VCALENDAR