BEGIN:VCALENDAR
VERSION:2.0
PRODID:spatie/icalendar-generator
DESCRIPTION:Events from DanversDems
X-WR-CALDESC:Events from DanversDems
REFRESH-INTERVAL;VALUE=DURATION:PT1440M
X-PUBLISHED-TTL:PT1440M
BEGIN:VTIMEZONE
TZID:Etc/GMT+0
BEGIN:STANDARD
DTSTART:20240821T120000Z
TZOFFSETFROM:+0000
TZOFFSETTO:+0000
END:STANDARD
END:VTIMEZONE
BEGIN:VTIMEZONE
TZID:UTC
BEGIN:STANDARD
DTSTART:20250728T025311Z
TZOFFSETFROM:+0000
TZOFFSETTO:+0000
END:STANDARD
END:VTIMEZONE
BEGIN:VEVENT
UID:89-76
DTSTAMP:20260424T025311Z
SUMMARY:Route One Standout
LOCATION:
ORGANIZER;CN=Lou:MAILTO:collector_of_music@yahoo.com
DTSTART;TZID=Etc/GMT+0:20250518T120000
DTEND;TZID=Etc/GMT+0:20250518T130000
X-ALT-DESC;FMTTYPE=TEXT/HTML:We will hold our signs for passing cars along 
 Route One from the Topsfield Fairgrounds to the Newburyport Rotary. Stand 
 out for a different agenda and values than those represented by the new ad
 ministration in DC! Details to follow.
CATEGORIES:MassDems
URL;VALUE=URI:https://danversdemocrats.org/mc-events/route-one-standout/
METHOD:PUBLISH
END:VEVENT
END:VCALENDAR