BEGIN:VCALENDAR
VERSION:2.0
PRODID:spatie/icalendar-generator
DESCRIPTION:Events from DanversDems
X-WR-CALDESC:Events from DanversDems
REFRESH-INTERVAL;VALUE=DURATION:PT1440M
X-PUBLISHED-TTL:PT1440M
BEGIN:VTIMEZONE
TZID:Etc/GMT+0
BEGIN:STANDARD
DTSTART:20250822T183000Z
TZOFFSETFROM:+0000
TZOFFSETTO:+0000
END:STANDARD
END:VTIMEZONE
BEGIN:VTIMEZONE
TZID:UTC
BEGIN:STANDARD
DTSTART:20250727T170957Z
TZOFFSETFROM:+0000
TZOFFSETTO:+0000
END:STANDARD
END:VTIMEZONE
BEGIN:VEVENT
UID:171-108
DTSTAMP:20260423T170957Z
SUMMARY:Select Board Meeting
LOCATION:Danvers Town Hall 1 Sylvan St  Danvers MA 01923
ORGANIZER;CN=Lou:MAILTO:collector_of_music@yahoo.com
RRULE:FREQ=MONTHLY;BYDAY=3TU;UNTIL=20261231T000000Z
DTSTART;TZID=Etc/GMT+0:20260519T183000
DTEND;TZID=Etc/GMT+0:20260519T193000
X-ALT-DESC;FMTTYPE=TEXT/HTML:Toomey Room - Town Hall
CATEGORIES:Town of Danvers
URL;VALUE=URI:https://danversdemocrats.org/mc-events/select-board-meeting-1
 8/?mc_id=171
METHOD:PUBLISH
END:VEVENT
END:VCALENDAR