BEGIN:VCALENDAR
VERSION:2.0
PRODID:spatie/icalendar-generator
DESCRIPTION:Events from DanversDems
X-WR-CALDESC:Events from DanversDems
REFRESH-INTERVAL;VALUE=DURATION:PT1440M
X-PUBLISHED-TTL:PT1440M
BEGIN:VTIMEZONE
TZID:Etc/GMT+0
BEGIN:STANDARD
DTSTART:20240621T183000Z
TZOFFSETFROM:+0000
TZOFFSETTO:+0000
END:STANDARD
END:VTIMEZONE
BEGIN:VTIMEZONE
TZID:UTC
BEGIN:STANDARD
DTSTART:20250728T092922Z
TZOFFSETFROM:+0000
TZOFFSETTO:+0000
END:STANDARD
END:VTIMEZONE
BEGIN:VEVENT
UID:29-24
DTSTAMP:20260424T092922Z
SUMMARY:Select Board Meeting
LOCATION:Danvers Town Hall 1 Sylvan St  Danvers MA 01923
ORGANIZER;CN=Lou:MAILTO:collector_of_music@yahoo.com
DTSTART;TZID=Etc/GMT+0:20250318T183000
DTEND;TZID=Etc/GMT+0:20250318T193000
X-ALT-DESC;FMTTYPE=TEXT/HTML:Town Hall - Toomey Room. 6:30
CATEGORIES:Town of Danvers
URL;VALUE=URI:https://danversdemocrats.org/mc-events/select-board-meeting-2
 /
METHOD:PUBLISH
END:VEVENT
END:VCALENDAR