BEGIN:VCALENDAR
VERSION:2.0
PRODID:spatie/icalendar-generator
DESCRIPTION:Events from DanversDems
X-WR-CALDESC:Events from DanversDems
REFRESH-INTERVAL;VALUE=DURATION:PT1440M
X-PUBLISHED-TTL:PT1440M
BEGIN:VTIMEZONE
TZID:Etc/GMT+0
BEGIN:STANDARD
DTSTART:20240621T190000Z
TZOFFSETFROM:+0000
TZOFFSETTO:+0000
END:STANDARD
END:VTIMEZONE
BEGIN:VTIMEZONE
TZID:UTC
BEGIN:STANDARD
DTSTART:20250728T092341Z
TZOFFSETFROM:+0000
TZOFFSETTO:+0000
END:STANDARD
END:VTIMEZONE
BEGIN:VEVENT
UID:44-39
DTSTAMP:20260424T092341Z
SUMMARY:Senator Warren Town Hall
LOCATION:UMass Lowell Moloney Performing Arts Center 35 Wilder St  Lowell M
 A
ORGANIZER;CN=Lou:MAILTO:collector_of_music@yahoo.com
DTSTART;TZID=Etc/GMT+0:20250318T190000
DTEND;TZID=Etc/GMT+0:20250318T200000
X-ALT-DESC;FMTTYPE=TEXT/HTML:Senator Elizabeth Warren is hosting a Town Hal
 l in Lowell this Tuesday March 18th. Senator Warren will open with remarks
  and take questions from constituents.  Lowell Town Hall with Sen. Elizab
 eth Warren UMass Lowell Moloney Performing Arts Center 35 Wilder St Lowell
 \, MA 01854 Doors Open at 6:00pm Event Starts at 7:00pm Space is available
 &amp;hellip\;
CATEGORIES:MassDems
URL;VALUE=URI:https://danversdemocrats.org/mc-events/senator-warren-town-ha
 ll/
METHOD:PUBLISH
END:VEVENT
END:VCALENDAR