BEGIN:VCALENDAR
VERSION:2.0
PRODID:spatie/icalendar-generator
DESCRIPTION:Events from DanversDems
X-WR-CALDESC:Events from DanversDems
REFRESH-INTERVAL;VALUE=DURATION:PT1440M
X-PUBLISHED-TTL:PT1440M
BEGIN:VTIMEZONE
TZID:Etc/GMT+0
BEGIN:STANDARD
DTSTART:20240908T180000Z
TZOFFSETFROM:+0000
TZOFFSETTO:+0000
END:STANDARD
END:VTIMEZONE
BEGIN:VTIMEZONE
TZID:UTC
BEGIN:STANDARD
DTSTART:20250727T232713Z
TZOFFSETFROM:+0000
TZOFFSETTO:+0000
END:STANDARD
END:VTIMEZONE
BEGIN:VEVENT
UID:88-75
DTSTAMP:20260423T232713Z
SUMMARY:Senior Scholarship Awards Night
LOCATION:Danvers High School Cabot Road  Danvers MA 01923
ORGANIZER;CN=Lou:MAILTO:collector_of_music@yahoo.com
DTSTART;TZID=Etc/GMT+0:20250605T180000
DTEND;TZID=Etc/GMT+0:20250605T210000
X-ALT-DESC;FMTTYPE=TEXT/HTML:Senior Scholarship Awards Night &amp;nbsp\;
CATEGORIES:Town of Danvers
URL;VALUE=URI:https://danversdemocrats.org/mc-events/senior-scholarship-awa
 rds-night/
METHOD:PUBLISH
END:VEVENT
END:VCALENDAR