BEGIN:VCALENDAR
VERSION:2.0
PRODID:spatie/icalendar-generator
DESCRIPTION:Events from DanversDems
X-WR-CALDESC:Events from DanversDems
REFRESH-INTERVAL;VALUE=DURATION:PT1440M
X-PUBLISHED-TTL:PT1440M
BEGIN:VTIMEZONE
TZID:Etc/GMT+0
BEGIN:STANDARD
DTSTART:20240707T150000Z
TZOFFSETFROM:+0000
TZOFFSETTO:+0000
END:STANDARD
END:VTIMEZONE
BEGIN:VTIMEZONE
TZID:UTC
BEGIN:STANDARD
DTSTART:20250728T052310Z
TZOFFSETFROM:+0000
TZOFFSETTO:+0000
END:STANDARD
END:VTIMEZONE
BEGIN:VEVENT
UID:37-32
DTSTAMP:20260424T052310Z
SUMMARY:Seth Moulton - Speak Out
LOCATION:
ORGANIZER;CN=Lou:MAILTO:collector_of_music@yahoo.com
DTSTART;TZID=Etc/GMT+0:20250403T150000
DTEND;TZID=Etc/GMT+0:20250403T160300
X-ALT-DESC;FMTTYPE=TEXT/HTML:Sponsored by the Sunrise Movement This is the 
 Sunrise Movements description of this event: Donald Trump is giving the ri
 chest men in the country even more money and more power\, while they jack 
 up the rent and burn the planet. Sunrise is organizing Speak-Outs to force
  our elected officials to stand up to Trump and&amp;hellip\;
CATEGORIES:other
URL;VALUE=URI:https://danversdemocrats.org/mc-events/seth-moulton-speak-out
 /
METHOD:PUBLISH
END:VEVENT
END:VCALENDAR