BEGIN:VCALENDAR
VERSION:2.0
PRODID:spatie/icalendar-generator
DESCRIPTION:Events from DanversDems
X-WR-CALDESC:Events from DanversDems
REFRESH-INTERVAL;VALUE=DURATION:PT1440M
X-PUBLISHED-TTL:PT1440M
BEGIN:VTIMEZONE
TZID:Etc/GMT+0
BEGIN:STANDARD
DTSTART:20240816T000000Z
TZOFFSETFROM:+0000
TZOFFSETTO:+0000
END:STANDARD
END:VTIMEZONE
BEGIN:VTIMEZONE
TZID:UTC
BEGIN:STANDARD
DTSTART:20250728T023427Z
TZOFFSETFROM:+0000
TZOFFSETTO:+0000
END:STANDARD
END:VTIMEZONE
BEGIN:VEVENT
UID:32-27
DTSTAMP:20260424T023427Z
SUMMARY:Special Election 6th District State Rep
LOCATION:
ORGANIZER;CN=Lou:MAILTO:collector_of_music@yahoo.com
DTSTART;TZID=Etc/GMT+0:20250513T000000
DTEND;TZID=Etc/GMT+0:20250513T010000
X-ALT-DESC;FMTTYPE=TEXT/HTML:As eight-term State Rep. Jerry Parisella was o
 fficially sworn in as Associate Justice of the District Court this week\, 
 three Beverly candidates have lined up to fill the open 6th Essex seat rep
 resenting Beverly and Wenham Precinct 1 on Beacon Hill. Beverly City Counc
 ilors Hannah Bowen and Todd Rotondo\, along with Beverly Chamber of Commer
 ce&amp;hellip\;
CATEGORIES:other
URL;VALUE=URI:https://danversdemocrats.org/mc-events/special-election-6th-d
 istrict-state-rep/
METHOD:PUBLISH
END:VEVENT
END:VCALENDAR