BEGIN:VCALENDAR
VERSION:2.0
PRODID:spatie/icalendar-generator
DESCRIPTION:Events from DanversDems
X-WR-CALDESC:Events from DanversDems
REFRESH-INTERVAL;VALUE=DURATION:PT1440M
X-PUBLISHED-TTL:PT1440M
BEGIN:VTIMEZONE
TZID:Etc/GMT+0
BEGIN:STANDARD
DTSTART:20250515T190000Z
TZOFFSETFROM:+0000
TZOFFSETTO:+0000
END:STANDARD
END:VTIMEZONE
BEGIN:VTIMEZONE
TZID:UTC
BEGIN:STANDARD
DTSTART:20250727T233106Z
TZOFFSETFROM:+0000
TZOFFSETTO:+0000
END:STANDARD
END:VTIMEZONE
BEGIN:VEVENT
UID:193-112
DTSTAMP:20260423T233106Z
SUMMARY:Special Town Meeting
LOCATION:
ORGANIZER;CN=Lou:MAILTO:collector_of_music@yahoo.com
DTSTART;TZID=Etc/GMT+0:20260209T190000
DTEND;TZID=Etc/GMT+0:20260209T200000
X-ALT-DESC;FMTTYPE=TEXT/HTML:Please see the attached Warrant &amp;amp\; Explana
 tion Report for the Special Town Meeting scheduled for February 9\, 2026 a
 t 7:30pm at Danvers High School. Below are some important dates for upcomi
 ng meetings and links to additional resources\, these are all explained in
  more detail in the attached memo. January 15\, 2026\, 7pm – Finance Com
 mittee&amp;hellip\;
CATEGORIES:Town of Danvers
URL;VALUE=URI:https://danversdemocrats.org/mc-events/special-town-meeting-2
 /
METHOD:PUBLISH
END:VEVENT
END:VCALENDAR