BEGIN:VCALENDAR
VERSION:2.0
PRODID:spatie/icalendar-generator
DESCRIPTION:Events from DanversDems
X-WR-CALDESC:Events from DanversDems
REFRESH-INTERVAL;VALUE=DURATION:PT1440M
X-PUBLISHED-TTL:PT1440M
BEGIN:VTIMEZONE
TZID:Etc/GMT+0
BEGIN:STANDARD
DTSTART:20240611T100000Z
TZOFFSETFROM:+0000
TZOFFSETTO:+0000
END:STANDARD
END:VTIMEZONE
BEGIN:VTIMEZONE
TZID:UTC
BEGIN:STANDARD
DTSTART:20250728T104619Z
TZOFFSETFROM:+0000
TZOFFSETTO:+0000
END:STANDARD
END:VTIMEZONE
BEGIN:VEVENT
UID:30-25
DTSTAMP:20260424T104619Z
SUMMARY:Swing Blue Alliance Frontline Update
LOCATION:
ORGANIZER;CN=Lou:MAILTO:collector_of_music@yahoo.com
DTSTART;TZID=Etc/GMT+0:20250308T100000
DTEND;TZID=Etc/GMT+0:20250308T103000
X-ALT-DESC;FMTTYPE=TEXT/HTML:Virtual event. Join from anywhere. Hosted in C
 ambridge\, Mass. We've crafted a focused agenda covering key priorities an
 d top campaigns to keep you aligned with our mission. Dive in for a high-l
 evel overview of where we’re heading and the impactful initiatives drivi
 ng us forward. Stay afterward for Q&amp;amp\;A and discussions. Sign up to att
 end: Link&amp;hellip\;
CATEGORIES:other
URL;VALUE=URI:https://danversdemocrats.org/mc-events/swing-blue-alliance-fr
 ontline-update/
METHOD:PUBLISH
END:VEVENT
END:VCALENDAR