BEGIN:VCALENDAR
VERSION:2.0
PRODID:spatie/icalendar-generator
DESCRIPTION:Events from DanversDems
X-WR-CALDESC:Events from DanversDems
REFRESH-INTERVAL;VALUE=DURATION:PT1440M
X-PUBLISHED-TTL:PT1440M
BEGIN:VTIMEZONE
TZID:Etc/GMT+0
BEGIN:STANDARD
DTSTART:20240618T140000Z
TZOFFSETFROM:+0000
TZOFFSETTO:+0000
END:STANDARD
END:VTIMEZONE
BEGIN:VTIMEZONE
TZID:UTC
BEGIN:STANDARD
DTSTART:20250728T095332Z
TZOFFSETFROM:+0000
TZOFFSETTO:+0000
END:STANDARD
END:VTIMEZONE
BEGIN:VEVENT
UID:43-38
DTSTAMP:20260424T095332Z
SUMMARY:Tesla Takedown
LOCATION:Tesla North Shore Mall 210 Andover St  Peabody MA 01923
ORGANIZER;CN=Lou:MAILTO:collector_of_music@yahoo.com
DTSTART;TZID=Etc/GMT+0:20250315T140000
DTEND;TZID=Etc/GMT+0:20250315T150000
X-ALT-DESC;FMTTYPE=TEXT/HTML:Tesla Takedown Start: Saturday\, March 15\, 20
 25• 2:00 PM End: Saturday\, March 15\, 2025• 3:00 PM Location:TESLA NO
 RTH SHORE MALL•210 Andover St\, \, Peabody\, MA 01960 US Host Contact In
 fo: 978.921.4100 &amp;nbsp\; &amp;nbsp\; Action Network is an open platform that e
 mpowers individuals and groups to organize for progressive causes. We enco
 urage responsible activism\, and do&amp;hellip\;
CATEGORIES:other
URL;VALUE=URI:https://danversdemocrats.org/mc-events/tesla-takedown-2/
METHOD:PUBLISH
END:VEVENT
END:VCALENDAR