BEGIN:VCALENDAR
VERSION:2.0
PRODID:spatie/icalendar-generator
DESCRIPTION:Events from DanversDems
X-WR-CALDESC:Events from DanversDems
REFRESH-INTERVAL;VALUE=DURATION:PT1440M
X-PUBLISHED-TTL:PT1440M
BEGIN:VTIMEZONE
TZID:Etc/GMT+0
BEGIN:STANDARD
DTSTART:20241221T190000Z
TZOFFSETFROM:+0000
TZOFFSETTO:+0000
END:STANDARD
END:VTIMEZONE
BEGIN:VTIMEZONE
TZID:UTC
BEGIN:STANDARD
DTSTART:20250728T014611Z
TZOFFSETFROM:+0000
TZOFFSETTO:+0000
END:STANDARD
END:VTIMEZONE
BEGIN:VEVENT
UID:133-102
DTSTAMP:20260424T014611Z
SUMMARY:The Danvers Historical Society - 250th anniversary of the American 
 Revolution. event #3
LOCATION:
ORGANIZER;CN=Lou:MAILTO:collector_of_music@yahoo.com
DTSTART;TZID=Etc/GMT+0:20250917T190000
DTEND;TZID=Etc/GMT+0:20250917T200000
X-ALT-DESC;FMTTYPE=TEXT/HTML:The Danvers Historical Society will host three
  events over the next two months to celebrate the 250th anniversary of the
  American Revolution. The Historical Society will also host another dramat
 ization of Lucy Larcom’s 1875 poem\, “A Gambrel Roof\,” on Wednesday
 \, Sept. 17\, at 7 p.m. at the historic Jeremiah Page House on Page Street
 . The&amp;hellip\;
CATEGORIES:other
URL;VALUE=URI:https://danversdemocrats.org/mc-events/the-danvers-historical
 -society-250th-anniversary-of-the-american-revolution-event-3/
METHOD:PUBLISH
END:VEVENT
END:VCALENDAR