BEGIN:VCALENDAR
VERSION:2.0
PRODID:spatie/icalendar-generator
DESCRIPTION:Events from DanversDems
X-WR-CALDESC:Events from DanversDems
REFRESH-INTERVAL;VALUE=DURATION:PT1440M
X-PUBLISHED-TTL:PT1440M
BEGIN:VTIMEZONE
TZID:Etc/GMT+0
BEGIN:STANDARD
DTSTART:20240503T180000Z
TZOFFSETFROM:+0000
TZOFFSETTO:+0000
END:STANDARD
END:VTIMEZONE
BEGIN:VTIMEZONE
TZID:UTC
BEGIN:STANDARD
DTSTART:20250728T083046Z
TZOFFSETFROM:+0000
TZOFFSETTO:+0000
END:STANDARD
END:VTIMEZONE
BEGIN:VEVENT
UID:18-14
DTSTAMP:20260424T083046Z
SUMMARY:Town Hall with Congressman Seth Moulton
LOCATION:Peabody City Hall 24 Lowell St Peabody MA
ORGANIZER;CN=Lou:MAILTO:collector_of_music@yahoo.com
DTSTART;TZID=Etc/GMT+0:20250128T180000
DTEND;TZID=Etc/GMT+0:20250128T200000
X-ALT-DESC;FMTTYPE=TEXT/HTML:I'm pleased to invite you to an in-person town
  hall on Tuesday\, January 28th\, at 6pm in Peabody. With the Trump admini
 stration underway\, I'm eager to answer your questions and share an update
  on my priorities in Congress. Your voice matters\, and I look forward to 
 hearing from you!
CATEGORIES:other
URL;VALUE=URI:https://danversdemocrats.org/mc-events/town-hall-with-congres
 sman-seth-moulton/
METHOD:PUBLISH
END:VEVENT
END:VCALENDAR