BEGIN:VCALENDAR
VERSION:2.0
PRODID:spatie/icalendar-generator
DESCRIPTION:Events from DanversDems
X-WR-CALDESC:Events from DanversDems
REFRESH-INTERVAL;VALUE=DURATION:PT1440M
X-PUBLISHED-TTL:PT1440M
BEGIN:VTIMEZONE
TZID:Etc/GMT+0
BEGIN:STANDARD
DTSTART:20240611T120000Z
TZOFFSETFROM:+0000
TZOFFSETTO:+0000
END:STANDARD
END:VTIMEZONE
BEGIN:VTIMEZONE
TZID:UTC
BEGIN:STANDARD
DTSTART:20250728T082220Z
TZOFFSETFROM:+0000
TZOFFSETTO:+0000
END:STANDARD
END:VTIMEZONE
BEGIN:VEVENT
UID:34-29
DTSTAMP:20260424T082220Z
SUMMARY:Women's March: Unite and Resist Boston
LOCATION:Boston
ORGANIZER;CN=Lou:MAILTO:collector_of_music@yahoo.com
DTSTART;TZID=Etc/GMT+0:20250308T120000
DTEND;TZID=Etc/GMT+0:20250308T150000
X-ALT-DESC;FMTTYPE=TEXT/HTML:On International Women’s Day\, we’re takin
 g to the streets to fight back against the fascist takeover. Join us to de
 fend our rights\, our bodies\, and our future. No permission needed—just
  show up and bring others. Starting on the Boston Common in front of the s
 tate house and we will march through the city to make&amp;hellip\;
CATEGORIES:other
URL;VALUE=URI:https://danversdemocrats.org/mc-events/womens-march-unite-and
 -resist-boston/
METHOD:PUBLISH
END:VEVENT
END:VCALENDAR