BEGIN:VCALENDAR
VERSION:2.0
PRODID:spatie/icalendar-generator
DESCRIPTION:Events from DanversDems
X-WR-CALDESC:Events from DanversDems
REFRESH-INTERVAL;VALUE=DURATION:PT1440M
X-PUBLISHED-TTL:PT1440M
BEGIN:VTIMEZONE
TZID:Etc/GMT+0
BEGIN:STANDARD
DTSTART:20240621T180000Z
TZOFFSETFROM:+0000
TZOFFSETTO:+0000
END:STANDARD
END:VTIMEZONE
BEGIN:VTIMEZONE
TZID:UTC
BEGIN:STANDARD
DTSTART:20250728T090251Z
TZOFFSETFROM:+0000
TZOFFSETTO:+0000
END:STANDARD
END:VTIMEZONE
BEGIN:VEVENT
UID:41-36
DTSTAMP:20260424T090251Z
SUMMARY:Write Postcards for Wisconsin Supreme Court Justice Election
LOCATION:George Peabody Library of Danvers 15 Sylvan St  Danvers MA 01923
ORGANIZER;CN=Lou:MAILTO:collector_of_music@yahoo.com
DTSTART;TZID=Etc/GMT+0:20250318T180000
DTEND;TZID=Etc/GMT+0:20250318T190000
X-ALT-DESC;FMTTYPE=TEXT/HTML:DanversDems invites you to join a postcard par
 ty on Tuesday March 18th at 6 pm at the Danvers Peabody Institute Library 
 Classroom in support of the Wisconsin Supreme Court Judicial Election. Swi
 ng Left NorthShore/Cape Ann is sponsoring this project to ensure that Wisc
 onsin keeps its liberal majority by electing Judge Susan Crawford on April
  1\,&amp;hellip\;
CATEGORIES:DanversDems
URL;VALUE=URI:https://danversdemocrats.org/mc-events/write-postcards-for-wi
 sconsin-supreme-court-justice-election/
METHOD:PUBLISH
END:VEVENT
END:VCALENDAR