BEGIN:VCALENDAR
VERSION:2.0
PRODID:spatie/icalendar-generator
DESCRIPTION:Events from DanversDems
X-WR-CALDESC:Events from DanversDems
REFRESH-INTERVAL;VALUE=DURATION:PT1440M
X-PUBLISHED-TTL:PT1440M
BEGIN:VTIMEZONE
TZID:Etc/GMT+0
BEGIN:STANDARD
DTSTART:20240625T130000Z
TZOFFSETFROM:+0000
TZOFFSETTO:+0000
END:STANDARD
END:VTIMEZONE
BEGIN:VTIMEZONE
TZID:UTC
BEGIN:STANDARD
DTSTART:20250728T042542Z
TZOFFSETFROM:+0000
TZOFFSETTO:+0000
END:STANDARD
END:VTIMEZONE
BEGIN:VEVENT
UID:45-40
DTSTAMP:20260424T042542Z
SUMMARY:Young Democrats of Massachusetts Summit
LOCATION:
ORGANIZER;CN=Lou:MAILTO:collector_of_music@yahoo.com
DTSTART;TZID=Etc/GMT+0:20250322T130000
DTEND;TZID=Etc/GMT+0:20250322T180000
X-ALT-DESC;FMTTYPE=TEXT/HTML:Summit for Chairs of all Democratic Town Commi
 ttees Cambridge
CATEGORIES:DanversDems
URL;VALUE=URI:https://danversdemocrats.org/mc-events/young-democrats-of-mas
 sachusetts-summit/
METHOD:PUBLISH
END:VEVENT
END:VCALENDAR